Package: pathwayPCA Version: 1.24.0 Command: /Library/Frameworks/R.framework/Resources/bin/R CMD build --keep-empty-dirs --no-resave-data pathwayPCA StartedAt: 2025-10-14 06:21:47 -0400 (Tue, 14 Oct 2025) EndedAt: 2025-10-14 06:25:08 -0400 (Tue, 14 Oct 2025) EllapsedTime: 201.3 seconds RetCode: 0 Status: OK PackageFile: pathwayPCA_1.24.0.tar.gz PackageFileSize: 3.478 MiB