Package: pathview Version: 1.48.0 Command: /home/biocbuild/bbs-3.21-bioc/R/bin/R CMD INSTALL pathview StartedAt: 2025-10-15 15:25:07 -0400 (Wed, 15 Oct 2025) EndedAt: 2025-10-15 15:25:24 -0400 (Wed, 15 Oct 2025) EllapsedTime: 17.1 seconds RetCode: 0 Status: OK