Package: pathview Version: 1.48.0 Command: rm -rf pathview.buildbin-libdir && mkdir pathview.buildbin-libdir && /Users/biocbuild/BBS/utils/build-universal.sh pathview_1.48.0.tar.gz /Library/Frameworks/R.framework/Resources/bin/R pathview.buildbin-libdir StartedAt: 2025-10-14 14:21:08 -0400 (Tue, 14 Oct 2025) EndedAt: 2025-10-14 14:22:08 -0400 (Tue, 14 Oct 2025) EllapsedTime: 59.2 seconds RetCode: 0 Status: OK PackageFile: pathview_1.48.0.tgz PackageFileSize: 2.727 MiB