Package: pathview Version: 1.48.0 Command: rm -rf pathview.buildbin-libdir && mkdir pathview.buildbin-libdir && /Users/biocbuild/BBS/utils/build-universal.sh pathview_1.48.0.tar.gz /Library/Frameworks/R.framework/Resources/bin/R pathview.buildbin-libdir StartedAt: 2025-10-15 19:44:53 -0400 (Wed, 15 Oct 2025) EndedAt: 2025-10-15 19:45:16 -0400 (Wed, 15 Oct 2025) EllapsedTime: 23.8 seconds RetCode: 0 Status: OK PackageFile: pathview_1.48.0.tgz PackageFileSize: 2.729 MiB