Package: pathlinkR Version: 1.4.0 Command: /home/biocbuild/R/R/bin/R CMD INSTALL pathlinkR StartedAt: 2025-10-13 21:07:39 -0000 (Mon, 13 Oct 2025) EndedAt: 2025-10-13 21:08:01 -0000 (Mon, 13 Oct 2025) EllapsedTime: 22.0 seconds RetCode: 0 Status: OK