Package: pathlinkR Version: 1.4.0 Command: /home/biocbuild/R/R/bin/R CMD check --install=check:pathlinkR.install-out.txt --library=/home/biocbuild/R/R/site-library --no-vignettes --timings pathlinkR_1.4.0.tar.gz StartedAt: 2025-10-07 12:46:20 -0000 (Tue, 07 Oct 2025) EndedAt: 2025-10-07 12:55:20 -0000 (Tue, 07 Oct 2025) EllapsedTime: 539.9 seconds RetCode: 0 Status: OK CheckDir: pathlinkR.Rcheck Warnings: 0