Package: pathlinkR Version: 1.4.0 Command: /Library/Frameworks/R.framework/Resources/bin/R CMD check --install=check:pathlinkR.install-out.txt --library=/Library/Frameworks/R.framework/Resources/library --no-vignettes --timings pathlinkR_1.4.0.tar.gz StartedAt: 2025-04-21 20:49:42 -0400 (Mon, 21 Apr 2025) EndedAt: 2025-04-21 20:51:53 -0400 (Mon, 21 Apr 2025) EllapsedTime: 131.5 seconds RetCode: 0 Status: OK CheckDir: pathlinkR.Rcheck Warnings: 0