Package: pathifier Version: 1.46.0 Command: /Library/Frameworks/R.framework/Resources/bin/R CMD INSTALL pathifier StartedAt: 2025-09-29 15:08:49 -0400 (Mon, 29 Sep 2025) EndedAt: 2025-09-29 15:09:34 -0400 (Mon, 29 Sep 2025) EllapsedTime: 44.6 seconds RetCode: 0 Status: OK