Package: pathifier Version: 1.46.0 Command: /Library/Frameworks/R.framework/Resources/bin/R CMD build --keep-empty-dirs --no-resave-data pathifier StartedAt: 2025-10-07 06:36:28 -0400 (Tue, 07 Oct 2025) EndedAt: 2025-10-07 06:36:53 -0400 (Tue, 07 Oct 2025) EllapsedTime: 24.7 seconds RetCode: 0 Status: OK PackageFile: pathifier_1.46.0.tar.gz PackageFileSize: 2.033 MiB