Package: pathRender Version: 1.76.0 Command: /home/biocbuild/bbs-3.21-bioc/R/bin/R CMD INSTALL pathRender StartedAt: 2025-10-15 15:25:00 -0400 (Wed, 15 Oct 2025) EndedAt: 2025-10-15 15:25:14 -0400 (Wed, 15 Oct 2025) EllapsedTime: 13.6 seconds RetCode: 0 Status: OK