Package: pathMED Version: 1.0.2 Command: E:\biocbuild\bbs-3.21-bioc\R\bin\R.exe CMD INSTALL pathMED StartedAt: 2025-08-14 16:42:20 -0400 (Thu, 14 Aug 2025) EndedAt: 2025-08-14 16:42:48 -0400 (Thu, 14 Aug 2025) EllapsedTime: 28.7 seconds RetCode: 0 Status: OK