Package: pathMED Version: 1.0.2 Command: chmod a+r pathMED -R && E:\biocbuild\bbs-3.21-bioc\R\bin\R.exe CMD build --keep-empty-dirs --no-resave-data pathMED StartedAt: 2025-08-14 21:09:41 -0400 (Thu, 14 Aug 2025) EndedAt: 2025-08-14 21:11:18 -0400 (Thu, 14 Aug 2025) EllapsedTime: 96.9 seconds RetCode: 0 Status: OK PackageFile: pathMED_1.0.2.tar.gz PackageFileSize: 6.258 MiB