Package: pathMED Version: 1.0.2 Command: /home/biocbuild/bbs-3.21-bioc/R/bin/R CMD build --keep-empty-dirs --no-resave-data pathMED StartedAt: 2025-10-15 19:04:33 -0400 (Wed, 15 Oct 2025) EndedAt: 2025-10-15 19:05:49 -0400 (Wed, 15 Oct 2025) EllapsedTime: 76.1 seconds RetCode: 0 Status: OK PackageFile: pathMED_1.0.2.tar.gz PackageFileSize: 6.344 MiB