Package: pathMED Version: 1.0.2 Command: /Library/Frameworks/R.framework/Resources/bin/R CMD check --install=check:pathMED.install-out.txt --library=/Library/Frameworks/R.framework/Resources/library --no-vignettes --timings pathMED_1.0.2.tar.gz StartedAt: 2025-10-14 08:00:03 -0400 (Tue, 14 Oct 2025) EndedAt: 2025-10-14 08:09:29 -0400 (Tue, 14 Oct 2025) EllapsedTime: 566.3 seconds RetCode: 1 Status: ERROR CheckDir: pathMED.Rcheck Warnings: NA