Package: pathMED Version: 1.0.0 Command: /Library/Frameworks/R.framework/Resources/bin/R CMD check --install=check:pathMED.install-out.txt --library=/Library/Frameworks/R.framework/Resources/library --no-vignettes --timings pathMED_1.0.0.tar.gz StartedAt: 2025-04-21 22:32:18 -0400 (Mon, 21 Apr 2025) EndedAt: 2025-04-21 22:37:55 -0400 (Mon, 21 Apr 2025) EllapsedTime: 337.1 seconds RetCode: 1 Status: ERROR CheckDir: pathMED.Rcheck Warnings: NA