Package: pathMED Version: 1.0.2 Command: /home/biocbuild/R/R/bin/R CMD check --install=check:pathMED.install-out.txt --library=/home/biocbuild/R/R/site-library --no-vignettes --timings pathMED_1.0.2.tar.gz StartedAt: 2025-09-26 13:42:41 -0000 (Fri, 26 Sep 2025) EndedAt: 2025-09-26 13:48:58 -0000 (Fri, 26 Sep 2025) EllapsedTime: 377.3 seconds RetCode: 0 Status: OK CheckDir: pathMED.Rcheck Warnings: 0