Package: partCNV Version: 1.6.0 Command: /home/biocbuild/R/R/bin/R CMD INSTALL partCNV StartedAt: 2025-10-13 20:41:54 -0000 (Mon, 13 Oct 2025) EndedAt: 2025-10-13 20:42:58 -0000 (Mon, 13 Oct 2025) EllapsedTime: 63.6 seconds RetCode: 0 Status: OK