Package: partCNV Version: 1.6.0 Command: /Library/Frameworks/R.framework/Resources/bin/R CMD build --keep-empty-dirs --no-resave-data partCNV StartedAt: 2025-10-14 06:18:32 -0400 (Tue, 14 Oct 2025) EndedAt: 2025-10-14 06:20:32 -0400 (Tue, 14 Oct 2025) EllapsedTime: 120.0 seconds RetCode: 0 Status: OK PackageFile: partCNV_1.6.0.tar.gz PackageFileSize: 4.646 MiB