Package: parody Version: 1.66.0 Command: /Library/Frameworks/R.framework/Resources/bin/R CMD INSTALL parody StartedAt: 2025-04-21 15:03:59 -0400 (Mon, 21 Apr 2025) EndedAt: 2025-04-21 15:04:41 -0400 (Mon, 21 Apr 2025) EllapsedTime: 42.0 seconds RetCode: 0 Status: OK