Package: parody Version: 1.66.0 Command: /Library/Frameworks/R.framework/Resources/bin/R CMD check --install=check:parody.install-out.txt --library=/Library/Frameworks/R.framework/Resources/library --no-vignettes --timings parody_1.66.0.tar.gz StartedAt: 2025-04-21 22:31:25 -0400 (Mon, 21 Apr 2025) EndedAt: 2025-04-21 22:32:17 -0400 (Mon, 21 Apr 2025) EllapsedTime: 52.4 seconds RetCode: 0 Status: OK CheckDir: parody.Rcheck Warnings: 0