Package: parody Version: 1.66.0 Command: /Library/Frameworks/R.framework/Resources/bin/R CMD build --keep-empty-dirs --no-resave-data parody StartedAt: 2025-04-21 17:52:43 -0400 (Mon, 21 Apr 2025) EndedAt: 2025-04-21 17:53:35 -0400 (Mon, 21 Apr 2025) EllapsedTime: 51.8 seconds RetCode: 0 Status: OK PackageFile: parody_1.66.0.tar.gz PackageFileSize: 481.6 KiB