Package: parody Version: 1.66.0 Command: rm -rf parody.buildbin-libdir && mkdir parody.buildbin-libdir && /Users/biocbuild/BBS/utils/build-universal.sh parody_1.66.0.tar.gz /Library/Frameworks/R.framework/Resources/bin/R parody.buildbin-libdir StartedAt: 2025-04-21 22:45:50 -0400 (Mon, 21 Apr 2025) EndedAt: 2025-04-21 22:45:52 -0400 (Mon, 21 Apr 2025) EllapsedTime: 2.0 seconds RetCode: 0 Status: OK PackageFile: parody_1.66.0.tgz PackageFileSize: 525 KiB