Package: parglms Version: 1.40.0 Command: /Library/Frameworks/R.framework/Resources/bin/R CMD build --keep-empty-dirs --no-resave-data parglms StartedAt: 2025-10-14 06:18:17 -0400 (Tue, 14 Oct 2025) EndedAt: 2025-10-14 06:18:38 -0400 (Tue, 14 Oct 2025) EllapsedTime: 21.8 seconds RetCode: 0 Status: OK PackageFile: parglms_1.40.0.tar.gz PackageFileSize: 273.2 KiB