Package: pareg Version: 1.12.0 Command: /home/biocbuild/R/R/bin/R CMD INSTALL pareg StartedAt: 2025-10-13 21:05:16 -0000 (Mon, 13 Oct 2025) EndedAt: 2025-10-13 21:05:44 -0000 (Mon, 13 Oct 2025) EllapsedTime: 27.9 seconds RetCode: 0 Status: OK