Package: pareg Version: 1.12.0 Command: /home/biocbuild/R/R/bin/R CMD build --keep-empty-dirs --no-resave-data pareg StartedAt: 2025-10-14 03:24:14 -0000 (Tue, 14 Oct 2025) EndedAt: 2025-10-14 03:26:20 -0000 (Tue, 14 Oct 2025) EllapsedTime: 126.2 seconds RetCode: 1 Status: ERROR PackageFile: None PackageFileSize: NA