Package: panp Version: 1.78.0 Command: rm -rf panp.buildbin-libdir && mkdir panp.buildbin-libdir && E:\biocbuild\bbs-3.21-bioc\R\bin\R.exe CMD INSTALL --build --library=panp.buildbin-libdir panp_1.78.0.tar.gz StartedAt: 2025-08-15 09:54:40 -0400 (Fri, 15 Aug 2025) EndedAt: 2025-08-15 09:54:50 -0400 (Fri, 15 Aug 2025) EllapsedTime: 10.3 seconds RetCode: 0 Status: OK PackageFile: panp_1.78.0.zip PackageFileSize: 528.9 KiB