Package: panp Version: 1.78.0 Command: /home/biocbuild/bbs-3.21-bioc/R/bin/R CMD build --keep-empty-dirs --no-resave-data panp StartedAt: 2025-10-12 19:06:09 -0400 (Sun, 12 Oct 2025) EndedAt: 2025-10-12 19:06:25 -0400 (Sun, 12 Oct 2025) EllapsedTime: 16.0 seconds RetCode: 0 Status: OK PackageFile: panp_1.78.0.tar.gz PackageFileSize: 671.3 KiB