Package: panp Version: 1.78.0 Command: /Library/Frameworks/R.framework/Resources/bin/R CMD build --keep-empty-dirs --no-resave-data panp StartedAt: 2025-10-13 21:23:43 -0400 (Mon, 13 Oct 2025) EndedAt: 2025-10-13 21:24:24 -0400 (Mon, 13 Oct 2025) EllapsedTime: 41.3 seconds RetCode: 0 Status: OK PackageFile: panp_1.78.0.tar.gz PackageFileSize: 671 KiB