Package: panp Version: 1.78.0 Command: /Library/Frameworks/R.framework/Resources/bin/R CMD build --keep-empty-dirs --no-resave-data panp StartedAt: 2025-04-21 17:51:59 -0400 (Mon, 21 Apr 2025) EndedAt: 2025-04-21 17:52:31 -0400 (Mon, 21 Apr 2025) EllapsedTime: 32.0 seconds RetCode: 0 Status: OK PackageFile: panp_1.78.0.tar.gz PackageFileSize: 670.4 KiB