Package: panp Version: 1.78.0 Command: /Library/Frameworks/R.framework/Resources/bin/R CMD check --install=check:panp.install-out.txt --library=/Library/Frameworks/R.framework/Resources/library --no-vignettes --timings panp_1.78.0.tar.gz StartedAt: 2025-10-11 08:10:12 -0400 (Sat, 11 Oct 2025) EndedAt: 2025-10-11 08:10:50 -0400 (Sat, 11 Oct 2025) EllapsedTime: 38.2 seconds RetCode: 0 Status: OK CheckDir: panp.Rcheck Warnings: 0