Package: panp Version: 1.78.0 Command: /Library/Frameworks/R.framework/Resources/bin/R CMD build --keep-empty-dirs --no-resave-data panp StartedAt: 2025-10-10 06:36:32 -0400 (Fri, 10 Oct 2025) EndedAt: 2025-10-10 06:36:49 -0400 (Fri, 10 Oct 2025) EllapsedTime: 16.9 seconds RetCode: 0 Status: OK PackageFile: panp_1.78.0.tar.gz PackageFileSize: 671.2 KiB