Package: pairkat Version: 1.14.0 Command: /Library/Frameworks/R.framework/Resources/bin/R CMD build --keep-empty-dirs --no-resave-data pairkat StartedAt: 2025-04-21 17:13:18 -0400 (Mon, 21 Apr 2025) EndedAt: 2025-04-21 17:16:44 -0400 (Mon, 21 Apr 2025) EllapsedTime: 206.4 seconds RetCode: 0 Status: OK PackageFile: pairkat_1.14.0.tar.gz PackageFileSize: 827.3 KiB