Package: pairkat Version: 1.14.0 Command: /Library/Frameworks/R.framework/Resources/bin/R CMD check --install=check:pairkat.install-out.txt --library=/Library/Frameworks/R.framework/Resources/library --no-vignettes --timings pairkat_1.14.0.tar.gz StartedAt: 2025-10-15 06:54:14 -0400 (Wed, 15 Oct 2025) EndedAt: 2025-10-15 07:09:04 -0400 (Wed, 15 Oct 2025) EllapsedTime: 890.0 seconds RetCode: 0 Status: OK CheckDir: pairkat.Rcheck Warnings: 0