Package: pairkat Version: 1.14.0 Command: rm -rf pairkat.buildbin-libdir && mkdir pairkat.buildbin-libdir && /Users/biocbuild/BBS/utils/build-universal.sh pairkat_1.14.0.tar.gz /Library/Frameworks/R.framework/Resources/bin/R pairkat.buildbin-libdir StartedAt: 2025-10-15 19:44:01 -0400 (Wed, 15 Oct 2025) EndedAt: 2025-10-15 19:44:32 -0400 (Wed, 15 Oct 2025) EllapsedTime: 30.8 seconds RetCode: 0 Status: OK PackageFile: pairkat_1.14.0.tgz PackageFileSize: 857.9 KiB