Package: paircompviz Version: 1.46.0 Command: /Library/Frameworks/R.framework/Resources/bin/R CMD check --install=check:paircompviz.install-out.txt --library=/Library/Frameworks/R.framework/Resources/library --no-vignettes --timings paircompviz_1.46.0.tar.gz StartedAt: 2025-10-15 06:53:46 -0400 (Wed, 15 Oct 2025) EndedAt: 2025-10-15 06:54:26 -0400 (Wed, 15 Oct 2025) EllapsedTime: 39.3 seconds RetCode: 0 Status: OK CheckDir: paircompviz.Rcheck Warnings: 0