Package: padma Version: 1.18.1 Command: E:\biocbuild\bbs-3.21-bioc\R\bin\R.exe CMD check --no-multiarch --install=check:padma.install-out.txt --library=E:\biocbuild\bbs-3.21-bioc\R\library --no-vignettes --timings padma_1.18.1.tar.gz StartedAt: 2025-08-15 05:09:18 -0400 (Fri, 15 Aug 2025) EndedAt: 2025-08-15 05:15:01 -0400 (Fri, 15 Aug 2025) EllapsedTime: 343.2 seconds RetCode: 0 Status: OK CheckDir: padma.Rcheck Warnings: 0