Package: padma Version: 1.18.1 Command: /home/biocbuild/bbs-3.21-bioc/R/bin/R CMD INSTALL padma StartedAt: 2025-10-15 15:20:25 -0400 (Wed, 15 Oct 2025) EndedAt: 2025-10-15 15:20:53 -0400 (Wed, 15 Oct 2025) EllapsedTime: 27.3 seconds RetCode: 0 Status: OK