Package: padma Version: 1.18.1 Command: /home/biocbuild/bbs-3.21-bioc/R/bin/R CMD check --install=check:padma.install-out.txt --library=/home/biocbuild/bbs-3.21-bioc/R/site-library --timings padma_1.18.1.tar.gz StartedAt: 2025-10-16 01:56:59 -0400 (Thu, 16 Oct 2025) EndedAt: 2025-10-16 02:04:56 -0400 (Thu, 16 Oct 2025) EllapsedTime: 477.0 seconds RetCode: 0 Status: OK CheckDir: padma.Rcheck Warnings: 0