Package: padma Version: 1.18.1 Command: /home/biocbuild/bbs-3.21-bioc/R/bin/R CMD build --keep-empty-dirs --no-resave-data padma StartedAt: 2025-10-15 19:01:53 -0400 (Wed, 15 Oct 2025) EndedAt: 2025-10-15 19:02:50 -0400 (Wed, 15 Oct 2025) EllapsedTime: 57.0 seconds RetCode: 0 Status: OK PackageFile: padma_1.18.1.tar.gz PackageFileSize: 1.383 MiB