Package: padma Version: 1.18.0 Command: /Library/Frameworks/R.framework/Resources/bin/R CMD check --install=check:padma.install-out.txt --library=/Library/Frameworks/R.framework/Resources/library --no-vignettes --timings padma_1.18.0.tar.gz StartedAt: 2025-04-21 22:27:52 -0400 (Mon, 21 Apr 2025) EndedAt: 2025-04-21 22:33:51 -0400 (Mon, 21 Apr 2025) EllapsedTime: 359.0 seconds RetCode: 0 Status: OK CheckDir: padma.Rcheck Warnings: 0