Package: padma Version: 1.18.1 Command: /home/biocbuild/R/R/bin/R CMD check --install=check:padma.install-out.txt --library=/home/biocbuild/R/R/site-library --no-vignettes --timings padma_1.18.1.tar.gz StartedAt: 2025-10-14 12:17:29 -0000 (Tue, 14 Oct 2025) EndedAt: 2025-10-14 12:23:57 -0000 (Tue, 14 Oct 2025) EllapsedTime: 388.4 seconds RetCode: 0 Status: OK CheckDir: padma.Rcheck Warnings: 0