Package: pRolocGUI Version: 2.18.0 Command: E:\biocbuild\bbs-3.21-bioc\R\bin\R.exe CMD check --no-multiarch --install=check:pRolocGUI.install-out.txt --library=E:\biocbuild\bbs-3.21-bioc\R\library --no-vignettes --timings pRolocGUI_2.18.0.tar.gz StartedAt: 2025-08-15 05:37:20 -0400 (Fri, 15 Aug 2025) EndedAt: 2025-08-15 05:45:13 -0400 (Fri, 15 Aug 2025) EllapsedTime: 473.4 seconds RetCode: 0 Status: OK CheckDir: pRolocGUI.Rcheck Warnings: 0