Package: orthos Version: 1.6.2 Command: /home/biocbuild/bbs-3.21-bioc/R/bin/R CMD check --install=check:orthos.install-out.txt --library=/home/biocbuild/bbs-3.21-bioc/R/site-library --timings orthos_1.6.2.tar.gz StartedAt: 2025-10-16 01:54:47 -0400 (Thu, 16 Oct 2025) EndedAt: 2025-10-16 02:12:05 -0400 (Thu, 16 Oct 2025) EllapsedTime: 1038.0 seconds RetCode: 0 Status: OK CheckDir: orthos.Rcheck Warnings: 0