Package: orthos Version: 1.6.2 Command: /home/biocbuild/R/R/bin/R CMD INSTALL orthos StartedAt: 2025-10-13 20:51:30 -0000 (Mon, 13 Oct 2025) EndedAt: 2025-10-13 20:51:50 -0000 (Mon, 13 Oct 2025) EllapsedTime: 20.1 seconds RetCode: 1 Status: ERROR