############################################################################## ############################################################################## ### ### Running command: ### ### /home/biocbuild/R/R/bin/R CMD INSTALL orthos ### ############################################################################## ############################################################################## * installing to library ‘/home/biocbuild/R/R-devel_2025-02-19/site-library’ * installing *source* package ‘orthos’ ... ** this is package ‘orthos’ version ‘1.6.2’ ** using non-staged installation via StagedInstall field ** R ** inst ** byte-compile and prepare package for lazy loading Error in loadNamespace(j <- i[[1L]], c(lib.loc, .libPaths()), versionCheck = vI[[j]]) : namespace ‘keras’ 2.15.0 is being loaded, but >= 2.16.0 is required Calls: ... namespaceImportFrom -> asNamespace -> loadNamespace Execution halted ERROR: lazy loading failed for package ‘orthos’ * removing ‘/home/biocbuild/R/R-devel_2025-02-19/site-library/orthos’ * restoring previous ‘/home/biocbuild/R/R-devel_2025-02-19/site-library/orthos’