Package: orthos Version: 1.6.0 Command: /home/biocbuild/R/R/bin/R CMD check --install=check:orthos.install-out.txt --library=/home/biocbuild/R/R/site-library --no-vignettes --timings orthos_1.6.0.tar.gz StartedAt: 2025-09-23 13:02:32 -0000 (Tue, 23 Sep 2025) EndedAt: 2025-09-23 13:22:23 -0000 (Tue, 23 Sep 2025) EllapsedTime: 1191.0 seconds RetCode: 0 Status: OK CheckDir: orthos.Rcheck Warnings: 0