Package: orthos Version: 1.6.2 Command: /home/biocbuild/R/R/bin/R CMD build --keep-empty-dirs --no-resave-data orthos StartedAt: 2025-10-14 03:16:22 -0000 (Tue, 14 Oct 2025) EndedAt: 2025-10-14 03:16:49 -0000 (Tue, 14 Oct 2025) EllapsedTime: 27.0 seconds RetCode: 1 Status: ERROR PackageFile: None PackageFileSize: NA