Package: optimalFlow Version: 1.20.0 Command: E:\biocbuild\bbs-3.21-bioc\R\bin\R.exe CMD check --no-multiarch --install=check:optimalFlow.install-out.txt --library=E:\biocbuild\bbs-3.21-bioc\R\library --no-vignettes --timings optimalFlow_1.20.0.tar.gz StartedAt: 2025-08-15 05:04:18 -0400 (Fri, 15 Aug 2025) EndedAt: 2025-08-15 05:12:43 -0400 (Fri, 15 Aug 2025) EllapsedTime: 505.0 seconds RetCode: 0 Status: OK CheckDir: optimalFlow.Rcheck Warnings: 0