Package: oposSOM Version: 2.26.0 Command: /Library/Frameworks/R.framework/Resources/bin/R CMD check --install=check:oposSOM.install-out.txt --library=/Library/Frameworks/R.framework/Resources/library --no-vignettes --timings oposSOM_2.26.0.tar.gz StartedAt: 2025-10-15 06:32:05 -0400 (Wed, 15 Oct 2025) EndedAt: 2025-10-15 06:36:00 -0400 (Wed, 15 Oct 2025) EllapsedTime: 234.1 seconds RetCode: 0 Status: WARNINGS CheckDir: oposSOM.Rcheck Warnings: 3