Package: oposSOM Version: 2.26.0 Command: /Library/Frameworks/R.framework/Resources/bin/R CMD build --keep-empty-dirs --no-resave-data oposSOM StartedAt: 2025-10-14 06:01:09 -0400 (Tue, 14 Oct 2025) EndedAt: 2025-10-14 06:02:08 -0400 (Tue, 14 Oct 2025) EllapsedTime: 58.4 seconds RetCode: 0 Status: OK PackageFile: oposSOM_2.26.0.tar.gz PackageFileSize: 13.35 MiB